BEGIN:VCALENDAR
VERSION:2.0
PRODID:-//One Mission Students - ECPv6.15.20//NONSGML v1.0//EN
CALSCALE:GREGORIAN
METHOD:PUBLISH
X-ORIGINAL-URL:https://onemissionstudents.org
X-WR-CALDESC:Events for One Mission Students
REFRESH-INTERVAL;VALUE=DURATION:PT1H
X-Robots-Tag:noindex
X-PUBLISHED-TTL:PT1H
BEGIN:VTIMEZONE
TZID:America/Chicago
BEGIN:DAYLIGHT
TZOFFSETFROM:-0600
TZOFFSETTO:-0500
TZNAME:CDT
DTSTART:20220313T080000
END:DAYLIGHT
BEGIN:STANDARD
TZOFFSETFROM:-0500
TZOFFSETTO:-0600
TZNAME:CST
DTSTART:20221106T070000
END:STANDARD
BEGIN:DAYLIGHT
TZOFFSETFROM:-0600
TZOFFSETTO:-0500
TZNAME:CDT
DTSTART:20230312T080000
END:DAYLIGHT
BEGIN:STANDARD
TZOFFSETFROM:-0500
TZOFFSETTO:-0600
TZNAME:CST
DTSTART:20231105T070000
END:STANDARD
BEGIN:DAYLIGHT
TZOFFSETFROM:-0600
TZOFFSETTO:-0500
TZNAME:CDT
DTSTART:20240310T080000
END:DAYLIGHT
BEGIN:STANDARD
TZOFFSETFROM:-0500
TZOFFSETTO:-0600
TZNAME:CST
DTSTART:20241103T070000
END:STANDARD
BEGIN:DAYLIGHT
TZOFFSETFROM:-0600
TZOFFSETTO:-0500
TZNAME:CDT
DTSTART:20250309T080000
END:DAYLIGHT
BEGIN:STANDARD
TZOFFSETFROM:-0500
TZOFFSETTO:-0600
TZNAME:CST
DTSTART:20251102T070000
END:STANDARD
BEGIN:DAYLIGHT
TZOFFSETFROM:-0600
TZOFFSETTO:-0500
TZNAME:CDT
DTSTART:20260308T080000
END:DAYLIGHT
BEGIN:STANDARD
TZOFFSETFROM:-0500
TZOFFSETTO:-0600
TZNAME:CST
DTSTART:20261101T070000
END:STANDARD
END:VTIMEZONE
BEGIN:VEVENT
DTSTART;TZID=America/Chicago:20231006T180000
DTEND;TZID=America/Chicago:20231007T150000
DTSTAMP:20260421T103403
CREATED:20220420T161029Z
LAST-MODIFIED:20230901T192241Z
UID:2374-1696615200-1696690800@onemissionstudents.org
SUMMARY:International Friends Retreat
DESCRIPTION:International Friends Retreat is designed to help international students attending college in Alabama make American friends and adjust to life in the United States. \nCOST:: $40 \nRegistration deadline is September 29th. \nIf you’re an international student studying in Alabama\, you’re invited to a weekend of kayaking\, mountain climbing\, zip-lining\, bow tag\, archery\, a tailgate party\, and most importantly\, relationship building with American friends! \nAmerican students don’t miss this opportunity to learn from others who have lived in different cultures\, build friendships with international students from your campus\, and enjoy all that WorldSong has to offer! \nRegister
URL:https://onemissionstudents.org/event/international-friends-retreat-2/
LOCATION:Worldsong Camp
ATTACH;FMTTYPE=image/jpeg:https://onemissionstudents.org/wp-content/uploads/2023/09/International-Friends-Retreat.jpg
END:VEVENT
BEGIN:VEVENT
DTSTART;TZID=America/Chicago:20241004T180000
DTEND;TZID=America/Chicago:20241005T150000
DTSTAMP:20260421T103403
CREATED:20240709T200949Z
LAST-MODIFIED:20240709T200949Z
UID:2715-1728064800-1728140400@onemissionstudents.org
SUMMARY:International Friends Retreat
DESCRIPTION:International Friends Retreat is designed to help international students attending college in Alabama make American friends and adjust to life in the United States. \nCOST:: $40 \nRegistration deadline is September 27th. \nIf you’re an international student studying in Alabama\, you’re invited to a weekend of kayaking\, mountain climbing\, zip-lining\, bow tag\, archery\, a tailgate party\, and most importantly\, relationship building with American friends! \nAmerican students don’t miss this opportunity to learn from others who have lived in different cultures\, build friendships with international students from your campus\, and enjoy all that WorldSong has to offer! \nRegister
URL:https://onemissionstudents.org/event/international-friends-retreat/
LOCATION:Worldsong Camp
ATTACH;FMTTYPE=image/jpeg:https://onemissionstudents.org/wp-content/uploads/2023/09/International-Friends-Retreat.jpg
END:VEVENT
BEGIN:VEVENT
DTSTART;TZID=America/Chicago:20250926T180000
DTEND;TZID=America/Chicago:20250927T150000
DTSTAMP:20260421T103403
CREATED:20250717T183941Z
LAST-MODIFIED:20250717T183941Z
UID:2881-1758909600-1758985200@onemissionstudents.org
SUMMARY:International Friends Retreat
DESCRIPTION:International Friends Retreat is designed to help international students attending college in Alabama make American friends and adjust to life in the United States. The cost is $40 per person. \nRegister
URL:https://onemissionstudents.org/event/international-friends-retreat-3/
LOCATION:Worldsong Camp
ATTACH;FMTTYPE=image/jpeg:https://onemissionstudents.org/wp-content/uploads/2023/09/International-Friends-Retreat.jpg
END:VEVENT
END:VCALENDAR